BEGIN:VCALENDAR
PRODID:-//Microsoft Corporation//Outlook 16.0 MIMEDIR//EN
VERSION:2.0
METHOD:REQUEST
X-MS-OLK-FORCEINSPECTOROPEN:TRUE
BEGIN:VTIMEZONE
TZID:W. Europe Standard Time
BEGIN:STANDARD
DTSTART:16011028T030000
RRULE:FREQ=YEARLY;BYDAY=-1SU;BYMONTH=10
TZOFFSETFROM:+0200
TZOFFSETTO:+0100
END:STANDARD
BEGIN:DAYLIGHT
DTSTART:16010325T020000
RRULE:FREQ=YEARLY;BYDAY=-1SU;BYMONTH=3
TZOFFSETFROM:+0100
TZOFFSETTO:+0200
END:DAYLIGHT
END:VTIMEZONE
BEGIN:VEVENT
ATTENDEE;CN="Jens Müller";RSVP=TRUE:mailto:Jens.Mueller@digitales-diktat.d
	e
ATTENDEE;CN="Frederic Engel";RSVP=TRUE:mailto:Frederic.Engel@dbt-os.de
ATTENDEE;CN="Thomas Würdig";RSVP=TRUE:mailto:Thomas.Wuerdig@digitales-dikt
	at.de
CLASS:PUBLIC
CREATED:20260306T114055Z
DESCRIPTION:Textbausteine: Textbausteine anlegen und Diktat beschleunigen\n
	\nEinzelheiten zum Termin 	\nTerminname 	HighSpeech Workout Episode 5 	\nM
	it 	Jens Müller 	\nWann 	Mittwoch\, 29. April 2026 	\n	08:30 - 09:00 	\n	
	W. Europa Standardzeit 	\nStandort 	Microsoft Teams-Besprechung 	\nAm Term
	in als Gast teilnehmen <https://visit.teams.microsoft.com/1/s?m=3451246866
	945&t=27331141ba3947548969e793378a3ea0&u=2b07a3cd01f840c484af38880556eb2f&
	p=SG2Fk6LC> 	\n\n\n\n_____________________________________________________
	___________________________\nMicrosoft Teams-Besprechung \nTeilnehmen: htt
	ps://teams.microsoft.com/meet/3451246866945?p=y3FNiRVpxJsRmhqKK2 \nBesprec
	hungs-ID: 345 124 686 694 5 \nPasscode: SG2Fk6LC \n_______________________
	_________\n\nBenötigen Sie Hilfe? <https://aka.ms/JoinTeamsMeeting?omkt=d
	e-DE>  | Systemreferenz <https://teams.microsoft.com/l/meetup-join/19%3ame
	eting_MGZmZjRmNWQtNDBkNC00MzNiLWIwZDYtZmZhNGJmMDc1ZGQ2%40thread.v2/0?conte
	xt=%7b%22Tid%22%3a%2227331141-ba39-4754-8969-e793378a3ea0%22%2c%22Oid%22%3
	a%222b07a3cd-01f8-40c4-84af-38880556eb2f%22%7d>  \nFür Organisatoren: Bes
	prechungsoptionen <https://teams.microsoft.com/meetingOptions/?organizerId
	=2b07a3cd-01f8-40c4-84af-38880556eb2f&tenantId=27331141-ba39-4754-8969-e79
	3378a3ea0&threadId=19_meeting_MGZmZjRmNWQtNDBkNC00MzNiLWIwZDYtZmZhNGJmMDc1
	ZGQ2@thread.v2&messageId=0&language=de-DE>  \n____________________________
	____________________________________________________\n
DTEND;TZID="W. Europe Standard Time":20260429T090000
DTSTAMP:20260226T143630Z
DTSTART;TZID="W. Europe Standard Time":20260429T083000
LAST-MODIFIED:20260306T114055Z
LOCATION:Microsoft Teams-Besprechung
ORGANIZER;CN="Jens Müller":mailto:Jens.Mueller@digitales-diktat.de
PRIORITY:5
SEQUENCE:0
SUMMARY:HighSpeech Workout Episode 5
TRANSP:OPAQUE
UID:040000008200E00074C5B7101A82E008000000005F73B270E3A0DC01000000000000000
	010000000D9C532624D64A242AF5065BC1DA89CE3
X-ALT-DESC;FMTTYPE=text/html:<html><head>\n\n</head>\n<body>\n<p><span styl
	e="font-size:inherit">Textbausteine: Textbausteine anlegen und Diktat besc
	hleunigen</span></p>\n<style id="va-style">\n  /* CLIENT-SPECIFIC STYLES *
	/\n  body\,\n  table\,\n  td\,\n  a {\n    -webkit-text-size-adjust: 100%\
	;\n    -ms-text-size-adjust: 100%\;\n  }\n  table\,\n  td {\n    mso-table
	-lspace: 0pt\;\n    mso-table-rspace: 0pt\;\n  }\n  /* RESET STYLES */\n  
	img {\n    border: 0\;\n    height: auto\;\n    line-height: 100%\;\n    o
	utline: none\;\n    text-decoration: none\;\n  }\n  table {\n    border-co
	llapse: collapse !important\;\n  }\n  body {\n    height: 100% !important\
	;\n    margin: 0 !important\;\n    padding: 0 !important\;\n    width: 100
	% !important\;\n  }\n  /* iOS BLUE LINKS */\n  a[x-apple-data-detectors] {
	\n    color: inherit !important\;\n    text-decoration: none !important\;\
	n    font-size: inherit !important\;\n    font-family: inherit !important\
	;\n    font-weight: inherit !important\;\n    line-height: inherit !import
	ant\;\n  }\n  /* GMAIL BLUE LINKS */\n  u + #body a {\n    color: inherit\
	;\n    text-decoration: none\;\n    font-size: inherit\;\n    font-family:
	 inherit\;\n    font-weight: inherit\;\n    line-height: inherit\;\n  }\n 
	 /* SAMSUNG MAIL BLUE LINKS */\n  #MessageViewBody a {\n    color: inherit
	\;\n    text-decoration: none\;\n    font-size: inherit\;\n    font-family
	: inherit\;\n    font-weight: inherit\;\n    line-height: inherit\;\n  }\n
	  /* These rules adjust styles for desktop devices\, keeping the email res
	ponsive for users. */\n  /* Some email clients don't properly apply media 
	query-based styles\, which is why we go mobile-first. */\n  @media screen 
	and (min-width: 600px) {\n    h1 {\n      font-size: 48px !important\;\n  
	    line-height: 48px !important\;\n    }\n    .intro {\n      font-size: 
	24px !important\;\n      line-height: 36px !important\;\n    }\n  }\n</sty
	le>\n<table id="va-details" lang="en-US" style="\n    width: 600px\;\n    
	border: 16px solid #f5f5ff\;\n    border-collapse: separate\;\n    border-
	spacing: 0\;\n  ">\n<tbody>\n<tr>\n<td class="va-title-text" colspan="2" b
	gcolor="#d6d7f1" style="\n        background-color: #d6d7f1\;\n        pad
	ding: 16px 16px 16px 16px\;\n        font-family: 'Segoe UI'\, 'Helvetica 
	Neue'\, Helvetica\, Arial\, sans-serif\;\n        font-size: 16px\;\n     
	   font-weight: 600\;\n      ">\nEinzelheiten zum Termin </td>\n</tr>\n<tr
	>\n<td class="va-details-text" style="\n        width: 30%\;\n        colo
	r: #616161\;\n        font-family: 'Segoe UI'\, 'Helvetica Neue'\, Helveti
	ca\, Arial\, sans-serif\;\n        font-weight: 400\;\n        font-size: 
	14px\;\n        padding: 0px 0px 0px 16px\;\n        height: 36px\;\n     
	   vertical-align: bottom\;\n      ">\nTerminname </td>\n<td class="va-inf
	o-text" style="\n        color: #212121\;\n        font-family: 'Segoe UI'
	\, 'Helvetica Neue'\, Helvetica\, Arial\, sans-serif\;\n        font-size:
	 14px\;\n        font-weight: 600\;\n        vertical-align: bottom\;\n   
	   ">\nHighSpeech Workout Episode 5 </td>\n</tr>\n<tr>\n<td class="va-deta
	ils-text" style="\n        width: 30%\;\n        color: #616161\;\n       
	 font-family: 'Segoe UI'\, 'Helvetica Neue'\, Helvetica\, Arial\, sans-ser
	if\;\n        font-weight: 400\;\n        font-size: 14px\;\n        paddi
	ng: 0px 0px 0px 16px\;\n        height: 36px\;\n        vertical-align: bo
	ttom\;\n      ">\nMit </td>\n<td class="va-info-text" style="\n        col
	or: #212121\;\n        font-family: 'Segoe UI'\, 'Helvetica Neue'\, Helvet
	ica\, Arial\, sans-serif\;\n        font-size: 14px\;\n        font-weight
	: 600\;\n        vertical-align: bottom\;\n      ">\nJens Müller </td>\n<
	/tr>\n<tr>\n<td class="va-details-text" style="\n        width: 30%\;\n   
	     color: #616161\;\n        font-family: 'Segoe UI'\, 'Helvetica Neue'\
	, Helvetica\, Arial\, sans-serif\;\n        font-weight: 400\;\n        fo
	nt-size: 14px\;\n        padding: 0px 0px 0px 16px\;\n        height: 36px
	\;\n        vertical-align: bottom\;\n      ">\nWann </td>\n<td class="va-
	info-text" style="\n        color: #212121\;\n        font-family: 'Segoe 
	UI'\, 'Helvetica Neue'\, Helvetica\, Arial\, sans-serif\;\n        font-si
	ze: 14px\;\n        font-weight: 600\;\n        vertical-align: bottom\;\n
	      ">\nMittwoch\, 29. April 2026 </td>\n</tr>\n<tr>\n<td class="va-deta
	ils-text" style="\n        width: 30%\;\n        color: #616161\;\n       
	 font-family: 'Segoe UI'\, 'Helvetica Neue'\, Helvetica\, Arial\, sans-ser
	if\;\n        font-weight: 400\;\n        font-size: 14px\;\n        paddi
	ng: 0px 0px 0px 16px\;\n        height: 28px\;\n        vertical-align: bo
	ttom\;\n      ">\n</td>\n<td class="va-info-text" style="\n        color: 
	#212121\;\n        font-family: 'Segoe UI'\, 'Helvetica Neue'\, Helvetica\
	, Arial\, sans-serif\;\n        font-size: 14px\;\n        font-weight: 60
	0\;\n        vertical-align: bottom\;\n      ">\n08:30 - 09:00 </td>\n</tr
	>\n<tr>\n<td class="va-details-text" style="\n        width: 30%\;\n      
	  color: #616161\;\n        font-family: 'Segoe UI'\, 'Helvetica Neue'\, H
	elvetica\, Arial\, sans-serif\;\n        font-weight: 400\;\n        font-
	size: 14px\;\n        padding: 0px 0px 0px 16px\;\n        height: 24px\;\
	n        vertical-align: bottom\;\n      ">\n</td>\n<td class="va-timezone
	-text" style="\n        font-family: 'Segoe UI'\, 'Helvetica Neue'\, Helve
	tica\, Arial\, sans-serif\;\n        font-weight: 400\;\n        font-size
	: 12px\;\n        color: #616161\;\n        vertical-align: bottom\;\n    
	  ">\nW. Europa Standardzeit </td>\n</tr>\n<tr>\n<td class="va-details-tex
	t" style="\n        width: 30%\;\n        color: #616161\;\n        font-f
	amily: 'Segoe UI'\, 'Helvetica Neue'\, Helvetica\, Arial\, sans-serif\;\n 
	       font-weight: 400\;\n        font-size: 14px\;\n        padding: 0px
	 0px 0px 16px\;\n        height: 36px\;\n        vertical-align: bottom\;\
	n      ">\nStandort </td>\n<td class="va-info-text" style="\n        color
	: #212121\;\n        font-family: 'Segoe UI'\, 'Helvetica Neue'\, Helvetic
	a\, Arial\, sans-serif\;\n        font-size: 14px\;\n        font-weight: 
	600\;\n        vertical-align: bottom\;\n      ">\nMicrosoft Teams-Besprec
	hung </td>\n</tr>\n<tr>\n<td class="va-join" colspan="2" style="text-align
	: center\; height: 64px">\n<center>\n<table border="0" cellspacing="0" cel
	lpadding="0">\n<tbody>\n<tr>\n<td class="va-join-button" align="center" bg
	color="#5b5fc7" style="\n                padding: 4px 8px 4px 8px\;\n     
	           background-color: #5b5fc7\;\n                border-radius: 4px
	\;\n              ">\n<a class="va-join-text" href="https://visit.teams.mi
	crosoft.com/1/s?m=3451246866945&amp\;t=27331141ba3947548969e793378a3ea0&am
	p\;u=2b07a3cd01f840c484af38880556eb2f&amp\;p=SG2Fk6LC" target="_blank" rel
	="noreferrer noopener" style="\n                  font-family: 'Segoe UI'\
	, 'Helvetica Neue'\, Helvetica\, Arial\,\n                    sans-serif\;
	\n                  text-decoration: none\;\n                  color: #fff
	fff\;\n                  font-size: 14px\;\n                  font-weight:
	 600\;\n                "><svg width="16" height="15" viewbox="0 0 16 15" 
	fill="none" xmlns="http://www.w3.org/2000/svg"><path fill-rule="evenodd" c
	lip-rule="evenodd" d="M2.18182 2.06248C2.18182 0.923406 3.07725 0 4.18182 
	0H14C15.1046 0 16 0.923406 16 2.06248V9.5624C16 10.7015 15.1046 11.6249 14
	 11.6249H9.44975L9.45011 11.3124V11.3109C9.45011 10.2114 8.88996 9.22476 8
	.03345 8.67869C8.17607 8.00459 8.75818 7.49993 9.45455 7.49993H11.6364C12.
	4397 7.49993 13.0909 8.17147 13.0909 8.99991V10.4999H14C14.5021 10.4999 14
	.9091 10.0802 14.9091 9.5624V2.06248C14.9091 1.54471 14.5021 1.12499 14 1.
	12499H4.18182C3.67971 1.12499 3.27273 1.54471 3.27273 2.06248V2.31799C2.88
	687 2.39108 2.52039 2.52127 2.18182 2.69976V2.06248ZM7.99556 11.3109L7.995
	2 11.6249L7.99476 12.0995C8.0976 14.0348 6.68313 15 4.06007 15C1.44548 15 
	0 14.0474 0 12.1271V11.3109C0 10.4378 0.671549 9.7301 1.49996 9.7301H2.188
	33H3.28724H6.49556C7.04269 9.7301 7.52138 10.0388 7.78334 10.4999C7.91811 
	10.737 7.99556 11.0144 7.99556 11.3109ZM2.18182 4.53783C1.73193 5.0113 1.4
	5455 5.65967 1.45455 6.37494C1.45455 7.0902 1.73193 7.73857 2.18182 8.2120
	4C2.18758 8.21812 2.19337 8.22412 2.19919 8.23012C2.49436 8.53484 2.8618 8
	.76509 3.27273 8.89124C3.50316 8.96196 3.74727 8.99991 4 8.99991C5.40582 8
	.99991 6.54545 7.82467 6.54545 6.37494C6.54545 4.9252 5.40582 3.74996 4 3.
	74996C3.74727 3.74996 3.50316 3.78791 3.27273 3.85864C2.8537 3.98726 2.479
	9 4.22418 2.18182 4.53783ZM10.5454 6.47146C11.5496 6.47146 12.3636 5.63192
	 12.3636 4.59633C12.3636 3.56081 11.5496 2.72129 10.5454 2.72129C9.54116 2
	.72129 8.72713 3.56081 8.72713 4.59633C8.72713 5.63192 9.54116 6.47146 10.
	5454 6.47146Z" fill="white"></path></svg>Am\n Termin als Gast teilnehmen <
	/a></td>\n</tr>\n</tbody>\n</table>\n</center>\n</td>\n</tr>\n</tbody>\n</
	table>\n<div><br>\n<br>\n<br>\n<div class="me-email-text" lang="de-DE" sty
	le="max-width:1024px\; color:#242424\; font-family:'Segoe UI'\,'Helvetica 
	Neue'\,Helvetica\,Arial\,sans-serif">\n<div aria-hidden="true" style="marg
	in-bottom:24px\; overflow:hidden\; white-space:nowrap">\n_________________
	_______________________________________________________________</div>\n<di
	v style="margin-bottom:12px"><span class="me-email-text" style="font-size:
	20px\; color:#242424\; font-weight:600">Microsoft Teams-Besprechung</span>
	\n</div>\n<div style="margin-bottom:6px"><span class="me-email-text" style
	="font-size:20px\; color:#242424\; font-weight:600">Teilnehmen:\n</span><a
	 href="https://teams.microsoft.com/meet/3451246866945?p=y3FNiRVpxJsRmhqKK2
	" id="meet_invite_block.action.join_link" title="Meeting join" aria-label=
	"Meeting join" class="me-email-link" style="font-size:20px\; text-decorati
	on:underline\; color:#5B5FC7">https://teams.microsoft.com/meet/34512468669
	45?p=y3FNiRVpxJsRmhqKK2</a>\n</div>\n<div style="margin-bottom:6px"><span 
	class="me-email-text-secondary" style="font-size:14px\; color:#616161">Bes
	prechungs-ID:\n</span><span class="me-email-text" style="font-size:14px\; 
	color:#242424">345 124 686 694 5</span>\n</div>\n<div style="margin-bottom
	:32px"><span class="me-email-text-secondary" style="font-size:14px\; color
	:#616161">Passcode:\n</span><span class="me-email-text" style="font-size:1
	4px\; color:#242424">SG2Fk6LC</span>\n</div>\n<div style="margin-bottom:12
	px\; max-width:1024px">\n<hr style="border:0\; background:#616161\; height
	:1px">\n</div>\n<div style="margin-bottom:24px"><a href="https://aka.ms/Jo
	inTeamsMeeting?omkt=de-DE" id="meet_invite_block.action.help" class="me-em
	ail-link" style="font-size:14px\; text-decoration:underline\; color:#5B5FC
	7">Benötigen Sie Hilfe?</a>\n<span style="color:#616161">|</span> <a href
	="https://teams.microsoft.com/l/meetup-join/19%3ameeting_MGZmZjRmNWQtNDBkN
	C00MzNiLWIwZDYtZmZhNGJmMDc1ZGQ2%40thread.v2/0?context=%7b%22Tid%22%3a%2227
	331141-ba39-4754-8969-e793378a3ea0%22%2c%22Oid%22%3a%222b07a3cd-01f8-40c4-
	84af-38880556eb2f%22%7d" id="meet_invite_block.action.join_link_compatibil
	ity" class="me-email-link" style="font-size:14px\; text-decoration:underli
	ne\; color:#5B5FC7">\nSystemreferenz</a> </div>\n<div><span class="me-emai
	l-text-secondary" style="font-size:14px\; color:#616161">Für Organisatore
	n:\n</span><a href="https://teams.microsoft.com/meetingOptions/?organizerI
	d=2b07a3cd-01f8-40c4-84af-38880556eb2f&amp\;tenantId=27331141-ba39-4754-89
	69-e793378a3ea0&amp\;threadId=19_meeting_MGZmZjRmNWQtNDBkNC00MzNiLWIwZDYtZ
	mZhNGJmMDc1ZGQ2@thread.v2&amp\;messageId=0&amp\;language=de-DE" id="meet_i
	nvite_block.action.organizer_meet_options" class="me-email-link" style="fo
	nt-size:14px\; text-decoration:underline\; color:#5B5FC7">Besprechungsopti
	onen</a>\n</div>\n<div style="margin-top:24px\; margin-bottom:6px"></div>\
	n<div style="margin-bottom:24px"></div>\n<div aria-hidden="true" style="ma
	rgin-bottom:24px\; overflow:hidden\; white-space:nowrap">\n_______________
	_________________________________________________________________</div>\n<
	/div>\n</div>\n</body>\n</html>\n
X-MICROSOFT-CDO-BUSYSTATUS:BUSY
X-MICROSOFT-CDO-IMPORTANCE:1
X-MICROSOFT-CDO-INTENDEDSTATUS:BUSY
X-MICROSOFT-DISALLOW-COUNTER:FALSE
X-MS-OLK-APPTLASTSEQUENCE:0
X-MS-OLK-APPTSEQTIME:20260226T143630Z
BEGIN:VALARM
TRIGGER:-PT15M
ACTION:DISPLAY
DESCRIPTION:Reminder
END:VALARM
END:VEVENT
END:VCALENDAR
